BEGIN:VCALENDAR
VERSION:2.0
PRODID:-//Sutton-at-Hone and Hawley Parish Council//Meeting Calendar//EN
CALSCALE:GREGORIAN
METHOD:PUBLISH
BEGIN:VEVENT
UID:71494-20260514@suttonathoneandhawleyparishcouncil.gov.uk
DTSTAMP:20260420T112233Z
DTSTART;VALUE=DATE:20260514
DTEND;VALUE=DATE:20260515
SUMMARY:Annual Parish Meeting 14th May 2026
DESCRIPTION:Annual Parish Meeting Meeting\nView details: https://suttonathoneandhawleyparishcouncil.gov.uk/meetings/annual-parish-meeting/
URL:https://suttonathoneandhawleyparishcouncil.gov.uk/meetings/annual-parish-meeting/
END:VEVENT
END:VCALENDAR
