BEGIN:VCALENDAR
VERSION:2.0
PRODID:-//Sutton-at-Hone and Hawley Parish Council//Meeting Calendar//EN
CALSCALE:GREGORIAN
METHOD:PUBLISH
BEGIN:VEVENT
UID:71422-20251218@suttonathoneandhawleyparishcouncil.gov.uk
DTSTAMP:20260420T144759Z
DTSTART;VALUE=DATE:20251218
DTEND;VALUE=DATE:20251219
SUMMARY:Budget Meeting 18th December at 5.30pm
DESCRIPTION:Full Council Meeting\nView details: https://suttonathoneandhawleyparishcouncil.gov.uk/meetings/budget-meeting/
URL:https://suttonathoneandhawleyparishcouncil.gov.uk/meetings/budget-meeting/
END:VEVENT
END:VCALENDAR
