BEGIN:VCALENDAR
VERSION:2.0
PRODID:-//Sutton-at-Hone and Hawley Parish Council//Meeting Calendar//EN
CALSCALE:GREGORIAN
METHOD:PUBLISH
BEGIN:VEVENT
UID:71336-20250821@suttonathoneandhawleyparishcouncil.gov.uk
DTSTAMP:20260420T164532Z
DTSTART;VALUE=DATE:20250821
DTEND;VALUE=DATE:20250822
SUMMARY:Extraordinary Council Meeting 21st August 2025
DESCRIPTION:Full Council Meeting\nView details: https://suttonathoneandhawleyparishcouncil.gov.uk/meetings/extraordinary-council-meeting/
URL:https://suttonathoneandhawleyparishcouncil.gov.uk/meetings/extraordinary-council-meeting/
END:VEVENT
END:VCALENDAR
