BEGIN:VCALENDAR
VERSION:2.0
PRODID:-//Sutton-at-Hone and Hawley Parish Council//Meeting Calendar//EN
CALSCALE:GREGORIAN
METHOD:PUBLISH
BEGIN:VEVENT
UID:71283-20260521@suttonathoneandhawleyparishcouncil.gov.uk
DTSTAMP:20260420T132313Z
DTSTART;VALUE=DATE:20260521
DTEND;VALUE=DATE:20260522
SUMMARY:Full Council Annual Meeting 21st May 2026
DESCRIPTION:Full Council Meeting\nView details: https://suttonathoneandhawleyparishcouncil.gov.uk/meetings/full-council-annual-meetings-21st-may-2026/
URL:https://suttonathoneandhawleyparishcouncil.gov.uk/meetings/full-council-annual-meetings-21st-may-2026/
END:VEVENT
END:VCALENDAR
