BEGIN:VCALENDAR
VERSION:2.0
PRODID:-//Sutton-at-Hone and Hawley Parish Council//Meeting Calendar//EN
CALSCALE:GREGORIAN
METHOD:PUBLISH
BEGIN:VEVENT
UID:71282-20260423@suttonathoneandhawleyparishcouncil.gov.uk
DTSTAMP:20260420T113120Z
DTSTART;VALUE=DATE:20260423
DTEND;VALUE=DATE:20260424
SUMMARY:Full Council 23rd April 2026
DESCRIPTION:Full Council Meeting\nView details: https://suttonathoneandhawleyparishcouncil.gov.uk/meetings/full-council-16th-april-2026/
URL:https://suttonathoneandhawleyparishcouncil.gov.uk/meetings/full-council-16th-april-2026/
END:VEVENT
END:VCALENDAR
