BEGIN:VCALENDAR
VERSION:2.0
PRODID:-//Sutton-at-Hone and Hawley Parish Council//Meeting Calendar//EN
CALSCALE:GREGORIAN
METHOD:PUBLISH
BEGIN:VEVENT
UID:71281-20260319@suttonathoneandhawleyparishcouncil.gov.uk
DTSTAMP:20260420T132049Z
DTSTART;VALUE=DATE:20260319
DTEND;VALUE=DATE:20260320
SUMMARY:Full Council 19th March 2026
DESCRIPTION:Full Council Meeting\nView details: https://suttonathoneandhawleyparishcouncil.gov.uk/meetings/full-council-19th-march-2026/
URL:https://suttonathoneandhawleyparishcouncil.gov.uk/meetings/full-council-19th-march-2026/
END:VEVENT
END:VCALENDAR
