BEGIN:VCALENDAR
VERSION:2.0
PRODID:-//Sutton-at-Hone and Hawley Parish Council//Meeting Calendar//EN
CALSCALE:GREGORIAN
METHOD:PUBLISH
BEGIN:VEVENT
UID:71280-20260219@suttonathoneandhawleyparishcouncil.gov.uk
DTSTAMP:20260420T132049Z
DTSTART;VALUE=DATE:20260219
DTEND;VALUE=DATE:20260220
SUMMARY:Full Council 19th February 2026
DESCRIPTION:Full Council Meeting\nView details: https://suttonathoneandhawleyparishcouncil.gov.uk/meetings/full-council-19th-february-2026/
URL:https://suttonathoneandhawleyparishcouncil.gov.uk/meetings/full-council-19th-february-2026/
END:VEVENT
END:VCALENDAR
