BEGIN:VCALENDAR
VERSION:2.0
PRODID:-//Sutton-at-Hone and Hawley Parish Council//Meeting Calendar//EN
CALSCALE:GREGORIAN
METHOD:PUBLISH
BEGIN:VEVENT
UID:71279-20260115@suttonathoneandhawleyparishcouncil.gov.uk
DTSTAMP:20260420T132040Z
DTSTART;VALUE=DATE:20260115
DTEND;VALUE=DATE:20260116
SUMMARY:Full Council 15th January 2026
DESCRIPTION:Full Council Meeting\nView details: https://suttonathoneandhawleyparishcouncil.gov.uk/meetings/full-council-22nd-january-2026/
URL:https://suttonathoneandhawleyparishcouncil.gov.uk/meetings/full-council-22nd-january-2026/
END:VEVENT
END:VCALENDAR
