BEGIN:VCALENDAR
VERSION:2.0
PRODID:-//Sutton-at-Hone and Hawley Parish Council//Meeting Calendar//EN
CALSCALE:GREGORIAN
METHOD:PUBLISH
BEGIN:VEVENT
UID:71277-20251127@suttonathoneandhawleyparishcouncil.gov.uk
DTSTAMP:20260420T145641Z
DTSTART;VALUE=DATE:20251127
DTEND;VALUE=DATE:20251128
SUMMARY:Full Council 27th November
DESCRIPTION:Full Council Meeting\nView details: https://suttonathoneandhawleyparishcouncil.gov.uk/meetings/full-council-27th-november/
URL:https://suttonathoneandhawleyparishcouncil.gov.uk/meetings/full-council-27th-november/
END:VEVENT
END:VCALENDAR
