BEGIN:VCALENDAR
VERSION:2.0
PRODID:-//Sutton-at-Hone and Hawley Parish Council//Meeting Calendar//EN
CALSCALE:GREGORIAN
METHOD:PUBLISH
BEGIN:VEVENT
UID:71276-20251016@suttonathoneandhawleyparishcouncil.gov.uk
DTSTAMP:20260420T145815Z
DTSTART;VALUE=DATE:20251016
DTEND;VALUE=DATE:20251017
SUMMARY:Full Council 16th October 2025
DESCRIPTION:Full Council Meeting\nView details: https://suttonathoneandhawleyparishcouncil.gov.uk/meetings/full-council-17th-october-2025/
URL:https://suttonathoneandhawleyparishcouncil.gov.uk/meetings/full-council-17th-october-2025/
END:VEVENT
END:VCALENDAR
