BEGIN:VCALENDAR
VERSION:2.0
PRODID:-//Sutton-at-Hone and Hawley Parish Council//Meeting Calendar//EN
CALSCALE:GREGORIAN
METHOD:PUBLISH
BEGIN:VEVENT
UID:71275-20250918@suttonathoneandhawleyparishcouncil.gov.uk
DTSTAMP:20260420T145532Z
DTSTART;VALUE=DATE:20250918
DTEND;VALUE=DATE:20250919
SUMMARY:Full Council 18th September 2025
DESCRIPTION:Full Council Meeting\nView details: https://suttonathoneandhawleyparishcouncil.gov.uk/meetings/full-council-19th-september-2025/
URL:https://suttonathoneandhawleyparishcouncil.gov.uk/meetings/full-council-19th-september-2025/
END:VEVENT
END:VCALENDAR
