BEGIN:VCALENDAR
VERSION:2.0
PRODID:-//Sutton-at-Hone and Hawley Parish Council//Meeting Calendar//EN
CALSCALE:GREGORIAN
METHOD:PUBLISH
BEGIN:VEVENT
UID:71274-20250717@suttonathoneandhawleyparishcouncil.gov.uk
DTSTAMP:20260420T164439Z
DTSTART;VALUE=DATE:20250717
DTEND;VALUE=DATE:20250718
SUMMARY:Full Council 17th July 2025
DESCRIPTION:Full Council Meeting\nView details: https://suttonathoneandhawleyparishcouncil.gov.uk/meetings/full-council-15th-july-2025/
URL:https://suttonathoneandhawleyparishcouncil.gov.uk/meetings/full-council-15th-july-2025/
END:VEVENT
END:VCALENDAR
