BEGIN:VCALENDAR
VERSION:2.0
PRODID:-//Sutton-at-Hone and Hawley Parish Council//Meeting Calendar//EN
CALSCALE:GREGORIAN
METHOD:PUBLISH
BEGIN:VEVENT
UID:71264-20250515@suttonathoneandhawleyparishcouncil.gov.uk
DTSTAMP:20260420T164439Z
DTSTART;VALUE=DATE:20250515
DTEND;VALUE=DATE:20250516
SUMMARY:Council Meeting 15th May 2025
DESCRIPTION:Full Council Meeting\nView details: https://suttonathoneandhawleyparishcouncil.gov.uk/meetings/council-meeting-15th-may-2025/
URL:https://suttonathoneandhawleyparishcouncil.gov.uk/meetings/council-meeting-15th-may-2025/
END:VEVENT
END:VCALENDAR
