BEGIN:VCALENDAR
VERSION:2.0
PRODID:-//Sutton-at-Hone and Hawley Parish Council//Meeting Calendar//EN
CALSCALE:GREGORIAN
METHOD:PUBLISH
BEGIN:VEVENT
UID:71234-20250417@suttonathoneandhawleyparishcouncil.gov.uk
DTSTAMP:20260420T182634Z
DTSTART;VALUE=DATE:20250417
DTEND;VALUE=DATE:20250418
SUMMARY:Council Meeting 17th April 2025
DESCRIPTION:Full Council Meeting\nView details: https://suttonathoneandhawleyparishcouncil.gov.uk/meetings/council-meeting-17th-april-2025/
URL:https://suttonathoneandhawleyparishcouncil.gov.uk/meetings/council-meeting-17th-april-2025/
END:VEVENT
END:VCALENDAR
