BEGIN:VCALENDAR
VERSION:2.0
PRODID:-//Sutton-at-Hone and Hawley Parish Council//Meeting Calendar//EN
CALSCALE:GREGORIAN
METHOD:PUBLISH
BEGIN:VEVENT
UID:71233-20250320@suttonathoneandhawleyparishcouncil.gov.uk
DTSTAMP:20260420T182627Z
DTSTART;VALUE=DATE:20250320
DTEND;VALUE=DATE:20250321
SUMMARY:Council Meeting 20th March 2025
DESCRIPTION:Full Council Meeting\nView details: https://suttonathoneandhawleyparishcouncil.gov.uk/meetings/council-meeting-20th-march-2025/
URL:https://suttonathoneandhawleyparishcouncil.gov.uk/meetings/council-meeting-20th-march-2025/
END:VEVENT
END:VCALENDAR
