BEGIN:VCALENDAR
VERSION:2.0
PRODID:-//Sutton-at-Hone and Hawley Parish Council//Meeting Calendar//EN
CALSCALE:GREGORIAN
METHOD:PUBLISH
BEGIN:VEVENT
UID:71229-20250220@suttonathoneandhawleyparishcouncil.gov.uk
DTSTAMP:20260420T200220Z
DTSTART;VALUE=DATE:20250220
DTEND;VALUE=DATE:20250221
SUMMARY:Council Meeting 20th February 2025
DESCRIPTION:Full Council Meeting\nView details: https://suttonathoneandhawleyparishcouncil.gov.uk/meetings/council-meeting-20th-february-2025/
URL:https://suttonathoneandhawleyparishcouncil.gov.uk/meetings/council-meeting-20th-february-2025/
END:VEVENT
END:VCALENDAR
