BEGIN:VCALENDAR
VERSION:2.0
PRODID:-//Sutton-at-Hone and Hawley Parish Council//Meeting Calendar//EN
CALSCALE:GREGORIAN
METHOD:PUBLISH
BEGIN:VEVENT
UID:71180-20250116@suttonathoneandhawleyparishcouncil.gov.uk
DTSTAMP:20260420T201012Z
DTSTART;VALUE=DATE:20250116
DTEND;VALUE=DATE:20250117
SUMMARY:Council Meeting 16th January 2025
DESCRIPTION:Full Council Meeting\nView details: https://suttonathoneandhawleyparishcouncil.gov.uk/meetings/council-meeting-16th-january-2025/
URL:https://suttonathoneandhawleyparishcouncil.gov.uk/meetings/council-meeting-16th-january-2025/
END:VEVENT
END:VCALENDAR
