BEGIN:VCALENDAR
VERSION:2.0
PRODID:-//Sutton-at-Hone and Hawley Parish Council//Meeting Calendar//EN
CALSCALE:GREGORIAN
METHOD:PUBLISH
BEGIN:VEVENT
UID:71100-20241121@suttonathoneandhawleyparishcouncil.gov.uk
DTSTAMP:20260420T200214Z
DTSTART;VALUE=DATE:20241121
DTEND;VALUE=DATE:20241122
SUMMARY:Council Meeting Nov 21st 2024
DESCRIPTION:Full Council Meeting\nView details: https://suttonathoneandhawleyparishcouncil.gov.uk/meetings/council-meeting-nov-21st-2024/
URL:https://suttonathoneandhawleyparishcouncil.gov.uk/meetings/council-meeting-nov-21st-2024/
END:VEVENT
END:VCALENDAR
