BEGIN:VCALENDAR
VERSION:2.0
PRODID:-//Sutton-at-Hone and Hawley Parish Council//Meeting Calendar//EN
CALSCALE:GREGORIAN
METHOD:PUBLISH
BEGIN:VEVENT
UID:71061-20240919@suttonathoneandhawleyparishcouncil.gov.uk
DTSTAMP:20260420T213546Z
DTSTART;VALUE=DATE:20240919
DTEND;VALUE=DATE:20240920
SUMMARY:Council Meeting &#8211\\; 19th Sept 2024
DESCRIPTION:Full Council Meeting\nView details: https://suttonathoneandhawleyparishcouncil.gov.uk/meetings/council-meeting-19th-sept-2024/
URL:https://suttonathoneandhawleyparishcouncil.gov.uk/meetings/council-meeting-19th-sept-2024/
END:VEVENT
END:VCALENDAR
