BEGIN:VCALENDAR
VERSION:2.0
PRODID:-//Sutton-at-Hone and Hawley Parish Council//Meeting Calendar//EN
CALSCALE:GREGORIAN
METHOD:PUBLISH
BEGIN:VEVENT
UID:70760-20240118@suttonathoneandhawleyparishcouncil.gov.uk
DTSTAMP:20260421T004930Z
DTSTART;VALUE=DATE:20240118
DTEND;VALUE=DATE:20240119
SUMMARY:Council Meeting 18 Jan 2024
DESCRIPTION:Full Council Meeting\nView details: https://suttonathoneandhawleyparishcouncil.gov.uk/meetings/council-meeting-18-jan-2024/
URL:https://suttonathoneandhawleyparishcouncil.gov.uk/meetings/council-meeting-18-jan-2024/
END:VEVENT
END:VCALENDAR
