BEGIN:VCALENDAR
VERSION:2.0
PRODID:-//Sutton-at-Hone and Hawley Parish Council//Meeting Calendar//EN
CALSCALE:GREGORIAN
METHOD:PUBLISH
BEGIN:VEVENT
UID:70759-20231221@suttonathoneandhawleyparishcouncil.gov.uk
DTSTAMP:20260421T005219Z
DTSTART;VALUE=DATE:20231221
DTEND;VALUE=DATE:20231222
SUMMARY:Council Meeting 14 Dec 2023
DESCRIPTION:Full Council Meeting\nView details: https://suttonathoneandhawleyparishcouncil.gov.uk/meetings/council-meeting-21-dec-2023/
URL:https://suttonathoneandhawleyparishcouncil.gov.uk/meetings/council-meeting-21-dec-2023/
END:VEVENT
END:VCALENDAR
