BEGIN:VCALENDAR
VERSION:2.0
PRODID:-//Sutton-at-Hone and Hawley Parish Council//Meeting Calendar//EN
CALSCALE:GREGORIAN
METHOD:PUBLISH
BEGIN:VEVENT
UID:70758-20231116@suttonathoneandhawleyparishcouncil.gov.uk
DTSTAMP:20260421T005834Z
DTSTART;VALUE=DATE:20231116
DTEND;VALUE=DATE:20231117
SUMMARY:Council Meeting 16 Nov 2023
DESCRIPTION:Full Council Meeting\nView details: https://suttonathoneandhawleyparishcouncil.gov.uk/meetings/council-meeting-16-nov-2023/
URL:https://suttonathoneandhawleyparishcouncil.gov.uk/meetings/council-meeting-16-nov-2023/
END:VEVENT
END:VCALENDAR
