BEGIN:VCALENDAR
VERSION:2.0
PRODID:-//Sutton-at-Hone and Hawley Parish Council//Meeting Calendar//EN
CALSCALE:GREGORIAN
METHOD:PUBLISH
BEGIN:VEVENT
UID:70754-20231019@suttonathoneandhawleyparishcouncil.gov.uk
DTSTAMP:20260421T005658Z
DTSTART;VALUE=DATE:20231019
DTEND;VALUE=DATE:20231020
SUMMARY:Council Meeting 19 Oct 2023
DESCRIPTION:Full Council Meeting\nView details: https://suttonathoneandhawleyparishcouncil.gov.uk/meetings/agenda-oct-23/
URL:https://suttonathoneandhawleyparishcouncil.gov.uk/meetings/agenda-oct-23/
END:VEVENT
END:VCALENDAR
