BEGIN:VCALENDAR
VERSION:2.0
PRODID:-//Sutton-at-Hone and Hawley Parish Council//Meeting Calendar//EN
CALSCALE:GREGORIAN
METHOD:PUBLISH
BEGIN:VEVENT
UID:70504-20220401@suttonathoneandhawleyparishcouncil.gov.uk
DTSTAMP:20260420T143614Z
DTSTART;VALUE=DATE:20220401
DTEND;VALUE=DATE:20220402
SUMMARY:Annual Parish Council &#8211\\; April 2022
DESCRIPTION:Annual Parish Meeting Meeting\nView details: https://suttonathoneandhawleyparishcouncil.gov.uk/meetings/annual-parish-council-april-2022/
URL:https://suttonathoneandhawleyparishcouncil.gov.uk/meetings/annual-parish-council-april-2022/
END:VEVENT
END:VCALENDAR
