BEGIN:VCALENDAR
VERSION:2.0
PRODID:-//Sutton-at-Hone and Hawley Parish Council//Meeting Calendar//EN
CALSCALE:GREGORIAN
METHOD:PUBLISH
BEGIN:VEVENT
UID:70496-20230701@suttonathoneandhawleyparishcouncil.gov.uk
DTSTAMP:20260421T005459Z
DTSTART;VALUE=DATE:20230701
DTEND;VALUE=DATE:20230702
SUMMARY:Council Meeting &#8211\\; July 2023
DESCRIPTION:Full Council Meeting\nView details: https://suttonathoneandhawleyparishcouncil.gov.uk/meetings/council-meeting-july-2023/
URL:https://suttonathoneandhawleyparishcouncil.gov.uk/meetings/council-meeting-july-2023/
END:VEVENT
END:VCALENDAR
