BEGIN:VCALENDAR
VERSION:2.0
PRODID:-//Sutton-at-Hone and Hawley Parish Council//Meeting Calendar//EN
CALSCALE:GREGORIAN
METHOD:PUBLISH
BEGIN:VEVENT
UID:70493-20230601@suttonathoneandhawleyparishcouncil.gov.uk
DTSTAMP:20260421T010408Z
DTSTART;VALUE=DATE:20230601
DTEND;VALUE=DATE:20230602
SUMMARY:Council Meeting &#8211\\; June 2023
DESCRIPTION:Full Council Meeting\nView details: https://suttonathoneandhawleyparishcouncil.gov.uk/meetings/council-meeting-june-2023/
URL:https://suttonathoneandhawleyparishcouncil.gov.uk/meetings/council-meeting-june-2023/
END:VEVENT
END:VCALENDAR
