BEGIN:VCALENDAR
VERSION:2.0
PRODID:-//Sutton-at-Hone and Hawley Parish Council//Meeting Calendar//EN
CALSCALE:GREGORIAN
METHOD:PUBLISH
BEGIN:VEVENT
UID:70491-20230501@suttonathoneandhawleyparishcouncil.gov.uk
DTSTAMP:20260420T230843Z
DTSTART;VALUE=DATE:20230501
DTEND;VALUE=DATE:20230502
SUMMARY:Council Meeting &#8211\\; May 2023
DESCRIPTION:Full Council Meeting\nView details: https://suttonathoneandhawleyparishcouncil.gov.uk/meetings/council-meeting-may-2023/
URL:https://suttonathoneandhawleyparishcouncil.gov.uk/meetings/council-meeting-may-2023/
END:VEVENT
END:VCALENDAR
