BEGIN:VCALENDAR
VERSION:2.0
PRODID:-//Sutton-at-Hone and Hawley Parish Council//Meeting Calendar//EN
CALSCALE:GREGORIAN
METHOD:PUBLISH
BEGIN:VEVENT
UID:70483-20221101@suttonathoneandhawleyparishcouncil.gov.uk
DTSTAMP:20260420T230817Z
DTSTART;VALUE=DATE:20221101
DTEND;VALUE=DATE:20221102
SUMMARY:Council Meeting &#8211\\; November 2022
DESCRIPTION:Full Council Meeting\nView details: https://suttonathoneandhawleyparishcouncil.gov.uk/meetings/council-meeting-november-2022/
URL:https://suttonathoneandhawleyparishcouncil.gov.uk/meetings/council-meeting-november-2022/
END:VEVENT
END:VCALENDAR
