BEGIN:VCALENDAR
VERSION:2.0
PRODID:-//Sutton-at-Hone and Hawley Parish Council//Meeting Calendar//EN
CALSCALE:GREGORIAN
METHOD:PUBLISH
BEGIN:VEVENT
UID:70481-20221001@suttonathoneandhawleyparishcouncil.gov.uk
DTSTAMP:20260420T225540Z
DTSTART;VALUE=DATE:20221001
DTEND;VALUE=DATE:20221002
SUMMARY:Council Meeting &#8211\\; October 2022
DESCRIPTION:Full Council Meeting\nView details: https://suttonathoneandhawleyparishcouncil.gov.uk/meetings/council-meeting-october-2022/
URL:https://suttonathoneandhawleyparishcouncil.gov.uk/meetings/council-meeting-october-2022/
END:VEVENT
END:VCALENDAR
