BEGIN:VCALENDAR
VERSION:2.0
PRODID:-//Sutton-at-Hone and Hawley Parish Council//Meeting Calendar//EN
CALSCALE:GREGORIAN
METHOD:PUBLISH
BEGIN:VEVENT
UID:70479-20220901@suttonathoneandhawleyparishcouncil.gov.uk
DTSTAMP:20260420T213546Z
DTSTART;VALUE=DATE:20220901
DTEND;VALUE=DATE:20220902
SUMMARY:Council Meeting &#8211\\; September 2022
DESCRIPTION:Full Council Meeting\nView details: https://suttonathoneandhawleyparishcouncil.gov.uk/meetings/council-meeting-september-2022/
URL:https://suttonathoneandhawleyparishcouncil.gov.uk/meetings/council-meeting-september-2022/
END:VEVENT
END:VCALENDAR
