BEGIN:VCALENDAR
VERSION:2.0
PRODID:-//Sutton-at-Hone and Hawley Parish Council//Meeting Calendar//EN
CALSCALE:GREGORIAN
METHOD:PUBLISH
BEGIN:VEVENT
UID:70477-20220701@suttonathoneandhawleyparishcouncil.gov.uk
DTSTAMP:20260420T230628Z
DTSTART;VALUE=DATE:20220701
DTEND;VALUE=DATE:20220702
SUMMARY:Council Meeting &#8211\\; July 2022
DESCRIPTION:Full Council Meeting\nView details: https://suttonathoneandhawleyparishcouncil.gov.uk/meetings/council-meeting-july-2022/
URL:https://suttonathoneandhawleyparishcouncil.gov.uk/meetings/council-meeting-july-2022/
END:VEVENT
END:VCALENDAR
