BEGIN:VCALENDAR
VERSION:2.0
PRODID:-//Sutton-at-Hone and Hawley Parish Council//Meeting Calendar//EN
CALSCALE:GREGORIAN
METHOD:PUBLISH
BEGIN:VEVENT
UID:70473-20220401@suttonathoneandhawleyparishcouncil.gov.uk
DTSTAMP:20260420T211801Z
DTSTART;VALUE=DATE:20220401
DTEND;VALUE=DATE:20220402
SUMMARY:Council Meeting &#8211\\; April 2022
DESCRIPTION:Full Council Meeting\nView details: https://suttonathoneandhawleyparishcouncil.gov.uk/meetings/council-meeting-april-2022/
URL:https://suttonathoneandhawleyparishcouncil.gov.uk/meetings/council-meeting-april-2022/
END:VEVENT
END:VCALENDAR
