BEGIN:VCALENDAR
VERSION:2.0
PRODID:-//Sutton-at-Hone and Hawley Parish Council//Meeting Calendar//EN
CALSCALE:GREGORIAN
METHOD:PUBLISH
BEGIN:VEVENT
UID:70469-20210501@suttonathoneandhawleyparishcouncil.gov.uk
DTSTAMP:20260420T182627Z
DTSTART;VALUE=DATE:20210501
DTEND;VALUE=DATE:20210502
SUMMARY:Council Meeting &#8211\\; May 2021
DESCRIPTION:Full Council Meeting\nView details: https://suttonathoneandhawleyparishcouncil.gov.uk/meetings/council-meeting-may-2021/
URL:https://suttonathoneandhawleyparishcouncil.gov.uk/meetings/council-meeting-may-2021/
END:VEVENT
END:VCALENDAR
