BEGIN:VCALENDAR
VERSION:2.0
PRODID:-//Sutton-at-Hone and Hawley Parish Council//Meeting Calendar//EN
CALSCALE:GREGORIAN
METHOD:PUBLISH
BEGIN:VEVENT
UID:70465-20210301@suttonathoneandhawleyparishcouncil.gov.uk
DTSTAMP:20260420T181919Z
DTSTART;VALUE=DATE:20210301
DTEND;VALUE=DATE:20210302
SUMMARY:Council Meeting &#8211\\; March 2021
DESCRIPTION:Full Council Meeting\nView details: https://suttonathoneandhawleyparishcouncil.gov.uk/meetings/council-meeting-march-2021/
URL:https://suttonathoneandhawleyparishcouncil.gov.uk/meetings/council-meeting-march-2021/
END:VEVENT
END:VCALENDAR
