BEGIN:VCALENDAR
VERSION:2.0
PRODID:-//Sutton-at-Hone and Hawley Parish Council//Meeting Calendar//EN
CALSCALE:GREGORIAN
METHOD:PUBLISH
BEGIN:VEVENT
UID:70463-20210201@suttonathoneandhawleyparishcouncil.gov.uk
DTSTAMP:20260420T182622Z
DTSTART;VALUE=DATE:20210201
DTEND;VALUE=DATE:20210202
SUMMARY:Council Meeting &#8211\\; February 2021
DESCRIPTION:Full Council Meeting\nView details: https://suttonathoneandhawleyparishcouncil.gov.uk/meetings/council-meeting-february-2021/
URL:https://suttonathoneandhawleyparishcouncil.gov.uk/meetings/council-meeting-february-2021/
END:VEVENT
END:VCALENDAR
