BEGIN:VCALENDAR
VERSION:2.0
PRODID:-//Sutton-at-Hone and Hawley Parish Council//Meeting Calendar//EN
CALSCALE:GREGORIAN
METHOD:PUBLISH
BEGIN:VEVENT
UID:70461-20210101@suttonathoneandhawleyparishcouncil.gov.uk
DTSTAMP:20260420T164322Z
DTSTART;VALUE=DATE:20210101
DTEND;VALUE=DATE:20210102
SUMMARY:Council Meeting &#8211\\; January 2021
DESCRIPTION:Full Council Meeting\nView details: https://suttonathoneandhawleyparishcouncil.gov.uk/meetings/council-meeting-january-2021/
URL:https://suttonathoneandhawleyparishcouncil.gov.uk/meetings/council-meeting-january-2021/
END:VEVENT
END:VCALENDAR
