BEGIN:VCALENDAR
VERSION:2.0
PRODID:-//Sutton-at-Hone and Hawley Parish Council//Meeting Calendar//EN
CALSCALE:GREGORIAN
METHOD:PUBLISH
BEGIN:VEVENT
UID:70453-20200901@suttonathoneandhawleyparishcouncil.gov.uk
DTSTAMP:20260420T151158Z
DTSTART;VALUE=DATE:20200901
DTEND;VALUE=DATE:20200902
SUMMARY:Council Meeting &#8211\\; September 2020
DESCRIPTION:Full Council Meeting\nView details: https://suttonathoneandhawleyparishcouncil.gov.uk/meetings/council-meeting-september-2020/
URL:https://suttonathoneandhawleyparishcouncil.gov.uk/meetings/council-meeting-september-2020/
END:VEVENT
END:VCALENDAR
