BEGIN:VCALENDAR
VERSION:2.0
PRODID:-//Sutton-at-Hone and Hawley Parish Council//Meeting Calendar//EN
CALSCALE:GREGORIAN
METHOD:PUBLISH
BEGIN:VEVENT
UID:70449-20200601@suttonathoneandhawleyparishcouncil.gov.uk
DTSTAMP:20260420T145539Z
DTSTART;VALUE=DATE:20200601
DTEND;VALUE=DATE:20200602
SUMMARY:Council Meeting &#8211\\; June 2020
DESCRIPTION:Full Council Meeting\nView details: https://suttonathoneandhawleyparishcouncil.gov.uk/meetings/council-meeting-june-2020/
URL:https://suttonathoneandhawleyparishcouncil.gov.uk/meetings/council-meeting-june-2020/
END:VEVENT
END:VCALENDAR
